BEGIN:VCALENDAR
VERSION:2.0
PRODID:-//eventon.com NONSGML v1.0//EN
CALSCALE:GREGORIAN
METHOD:PUBLISH
BEGIN:VEVENT
UID:69e6d971b0210
DTSTAMP:20260421T015705Z
DTSTART:20250428T060000Z
DTEND:20250509T153000Z
LOCATION:
SUMMARY:Stage de printemps - Sombreffe (Tongrinne)
DESCRIPTION:« D’Connexion » Du 28 avril au 9 mai 2025 Offrez à votre
  enfant une semaine inoubliable où créativité\,  jeu et nature se rencon
 trent ! Au programme :✨ Création de jeux de société – Imagine\,  inv
 ente et construis ton propre jeu !🌱 Découverte de la nature – Apprend
 s à observer et respecter[..]\nhttps://oxyjeunes.be/events/sombreffe/
URL:https://oxyjeunes.be/events/sombreffe/
END:VEVENT
END:VCALENDAR